BEGIN:VCALENDAR
VERSION:2.0
PRODID:-//Gemeinde Niederkirchen - ECPv6.15.12.2//NONSGML v1.0//EN
CALSCALE:GREGORIAN
METHOD:PUBLISH
X-WR-CALNAME:Gemeinde Niederkirchen
X-ORIGINAL-URL:https://gemeinde-niederkirchen.de
X-WR-CALDESC:Veranstaltungen für Gemeinde Niederkirchen
REFRESH-INTERVAL;VALUE=DURATION:PT1H
X-Robots-Tag:noindex
X-PUBLISHED-TTL:PT1H
BEGIN:VTIMEZONE
TZID:UTC
BEGIN:STANDARD
TZOFFSETFROM:+0000
TZOFFSETTO:+0000
TZNAME:UTC
DTSTART:20240101T000000
END:STANDARD
END:VTIMEZONE
BEGIN:VEVENT
DTSTART;TZID=UTC:20250308T180000
DTEND;TZID=UTC:20250308T210000
DTSTAMP:20260422T101918
CREATED:20240111T195202Z
LAST-MODIFIED:20241115T063616Z
UID:4057-1741456800-1741467600@gemeinde-niederkirchen.de
SUMMARY:Heringsessen
DESCRIPTION:
URL:https://gemeinde-niederkirchen.de/event/heringsessen
LOCATION:Anglerheim Niederkirchen am Landschaftsweiher\, Sport und Freizeitzentrum\, Niederkirchen
END:VEVENT
END:VCALENDAR