BEGIN:VCALENDAR
VERSION:2.0
PRODID:-//Gemeinde Niederkirchen - ECPv6.15.12.2//NONSGML v1.0//EN
CALSCALE:GREGORIAN
METHOD:PUBLISH
X-WR-CALNAME:Gemeinde Niederkirchen
X-ORIGINAL-URL:https://gemeinde-niederkirchen.de
X-WR-CALDESC:Veranstaltungen für Gemeinde Niederkirchen
REFRESH-INTERVAL;VALUE=DURATION:PT1H
X-Robots-Tag:noindex
X-PUBLISHED-TTL:PT1H
BEGIN:VTIMEZONE
TZID:UTC
BEGIN:STANDARD
TZOFFSETFROM:+0000
TZOFFSETTO:+0000
TZNAME:UTC
DTSTART:20240101T000000
END:STANDARD
END:VTIMEZONE
BEGIN:VEVENT
DTSTART;TZID=UTC:20250501T110000
DTEND;TZID=UTC:20250501T190000
DTSTAMP:20260424T101728
CREATED:20250212T191216Z
LAST-MODIFIED:20250212T191216Z
UID:4662-1746097200-1746126000@gemeinde-niederkirchen.de
SUMMARY:Maifeier
DESCRIPTION:
URL:https://gemeinde-niederkirchen.de/event/maifeier
LOCATION:Ortsmitte Niederkirchen\, Niederkirchen\, 67700
END:VEVENT
BEGIN:VEVENT
DTSTART;TZID=UTC:20250517T190000
DTEND;TZID=UTC:20250517T230000
DTSTAMP:20260424T101728
CREATED:20250212T191441Z
LAST-MODIFIED:20250407T152941Z
UID:4664-1747508400-1747522800@gemeinde-niederkirchen.de
SUMMARY:Chorkonzert
DESCRIPTION:
URL:https://gemeinde-niederkirchen.de/event/chorkonzert
LOCATION:Westpfalzhalle Niederkirchen\, Sport- und Freizeitzentrum 2\, Niederkirchen\, 67700\, Deutschland
END:VEVENT
END:VCALENDAR